BEGIN:VCALENDAR
VERSION:2.0
PRODID:-//ChamberMaster//Event Calendar 2.0//EN
METHOD:PUBLISH
X-PUBLISHED-TTL:P3D
REFRESH-INTERVAL:P3D
CALSCALE:GREGORIAN
BEGIN:VEVENT
DTSTART:20260604T120000Z
DTEND:20260604T140000Z
X-MICROSOFT-CDO-ALLDAYEVENT:FALSE
SUMMARY:PolicyMaker Series: The State of The Economy
DESCRIPTION:What is the State of the Economy in 2026\n\nHear from the experts on how the regional and national economy is reacting to global uncertainty\n\n \n\nFrom geopolitical conflict\, rising energy\, and labor costs to rapid changes in Federal policies\, Loudoun's economic landscape is being shaped by powerful forces on a global scale.\n\n \n\nTo help you better understand how these forces are impacting your business and our regional economy\, make plans to join the the Loudoun Chamber for the annual "State of the Economy" forum\, featuring two of the region's most influential economic leaders:\n\n \n\n	Tom Barkin\, President & CEO\, Federal Reserve Bank of Richmond\n	Marisa Flowers\, COO & EVP\, Strategy\, Greater Washington Partnership\n\n \n\nOur speakers will address many of the issues impacting our region's and America's economic fortunes\, including disruptions to global energy markets caused by the Iranian conflict\, which is adding new pressure on inflation and consumer spending. At the same time\, changes to the Federal Reserve Bank's leadership and future monetary policy are raising critical questions about interest rates\, growth\, and investment strategy.\n\n \n\nWhile Mr. Barkin will provide an insider's perspective on how the Federal Reserve is navigating the current economic currents\, including how those challenges are influencing inflation\, labor markets\, and rate decisions.\n\n \n\nMarisa Flowers will present the Greater Washington Partnership's "Region Rising framework\," a forward-looking strategy driving economic competitiveness across the Greater Washington region focusing on talent\, innovation\, and regional collaboration to ensure long-term growth.\n\n \n\nIn a moment where uncertainty is high\, but opportunity remains\, the Loudoun Chamber's State of the Economy will give you the clarity and insight you need to lead with confidence. \n\n \n\n \n\nDirections: The event is located at the Belmont Country Club Clubhouse   use the front gate from Russell Branch Pkwy (across from Whole Foods shopping center) to enter the Country Club and let the security guard know that you're attending the Chamber event. After entering the main gate\, turn right at the roundabout and then follow the road up to the Manor/Clubhouse. Park wherever you would like. The event is in the upstairs ballroom.
X-ALT-DESC;FMTTYPE=text/html:<div style="text-align: center\;">\n<div data-pm-slice="1 1 []" style="text-align: left\;">&nbsp\;<br />\n<strong><span style="font-family:calibri\,sans-serif\;"><span style="font-size:11.0pt\;">What is the State of the Economy in 2026</span></span></strong><br />\n<em><span style="font-family:calibri\,sans-serif\;"><span style="font-size:11.0pt\;">Hear from the experts on how the regional and national economy is reacting to global uncertainty</span></span></em><br />\n&nbsp\;<br />\n<span style="font-family:calibri\,sans-serif\;"><span style="font-size:11.0pt\;">From geopolitical conflict\, rising energy\, and labor costs to rapid changes in Federal policies\, Loudoun&rsquo\;s economic landscape is being shaped by powerful forces on a global scale.</span></span><br />\n&nbsp\;<br />\n<span style="font-family:calibri\,sans-serif\;"><span style="font-size:11.0pt\;">To help you better understand how these forces are impacting your business and our regional economy\, make plans to join the the Loudoun Chamber for the annual &ldquo\;State of the Economy&rdquo\; forum\, featuring two of the region&rsquo\;s most influential economic leaders:</span></span><br />\n&nbsp\;\n<ul>\n	<li><span style="font-family:calibri\,sans-serif\;"><span style="font-size:11.0pt\;">Tom Barkin\, President &amp\; CEO\, Federal Reserve Bank of Richmond</span></span></li>\n	<li><span style="font-family:calibri\,sans-serif\;"><span style="font-size:11.0pt\;">Marisa Flowers\, COO &amp\; EVP\, Strategy\, Greater Washington Partnership</span></span></li>\n</ul>\n&nbsp\;<br />\n<span style="font-family:calibri\,sans-serif\;"><span style="font-size:11.0pt\;">Our speakers will address many of the issues impacting our region&rsquo\;s and America&rsquo\;s economic fortunes\, including disruptions to global energy markets caused by the Iranian conflict\, which is adding new pressure on inflation and consumer spending. At the same time\, changes to the Federal Reserve Bank&rsquo\;s leadership and future monetary policy are raising critical questions about interest rates\, growth\, and investment strategy.</span></span><br />\n&nbsp\;<br />\n<span style="font-family:calibri\,sans-serif\;"><span style="font-size:11.0pt\;">While Mr. Barkin will provide an insider&rsquo\;s perspective on how the Federal Reserve is navigating the current economic currents\, including how those challenges are influencing inflation\, labor markets\, and rate decisions.</span></span><br />\n&nbsp\;<br />\n<span style="font-family:calibri\,sans-serif\;"><span style="font-size:11.0pt\;">Marisa Flowers will present the Greater Washington Partnership&rsquo\;s &ldquo\;Region Rising framework\,&rdquo\; a forward-looking strategy driving economic competitiveness across the Greater Washington region&mdash\;focusing on talent\, innovation\, and regional collaboration to ensure long-term growth.</span></span><br />\n&nbsp\;<br />\n<span style="font-family:calibri\,sans-serif\;"><span style="font-size:11.0pt\;">In a moment where uncertainty is high\, but opportunity remains\, the Loudoun Chamber&rsquo\;s State of the Economy will give you the clarity and insight you need to lead with confidence. </span></span><br />\n&nbsp\;</div>\n\n<div data-pm-slice="1 1 []">&nbsp\;</div>\n\n<div data-pm-slice="1 1 []" style="text-align: left\;"><strong><em><span style="font-family:calibri\,sans-serif\;"><span style="font-size:11.0pt\;">Directions:&nbsp\;</span></span></em></strong><em><span style="font-family:calibri\,sans-serif\;"><span style="font-size:11.0pt\;">The event is located at the Belmont Country Club Clubhouse &ndash\; use the front gate from Russell Branch Pkwy (across from Whole Foods shopping center) to enter the Country Club and let the security guard know that you&rsquo\;re attending the Chamber event. After entering the main gate\, turn right at the roundabout and then follow the road up to the Manor/Clubhouse. Park wherever you&nbsp\;would&nbsp\;like. The event is in the upstairs ballroom.</span></span></em></div>\n\n<ul>\n</ul>\n</div>\n
LOCATION:Belmont Country Club 43750 Tournament Parkway Ashburn\, Virginia 20147
UID:e.1206.13560
SEQUENCE:3
DTSTAMP:20260423T221103Z
URL:https://business.loudounchamber.org/events/details/policymaker-series-the-state-of-the-economy-13560
END:VEVENT

END:VCALENDAR
