BEGIN:VCALENDAR
VERSION:2.0
PRODID:-//ChamberMaster//Event Calendar 2.0//EN
METHOD:PUBLISH
X-PUBLISHED-TTL:P3D
REFRESH-INTERVAL:P3D
CALSCALE:GREGORIAN
BEGIN:VEVENT
DTSTART:20260421T210000Z
DTEND:20260422T000000Z
X-MICROSOFT-CDO-ALLDAYEVENT:FALSE
SUMMARY:YEA! 10th Annual Investor Panel
DESCRIPTION:The Young Entrepreneurs Academy will be hosting their 10th Annual Investor Panel. Similar to the hit show "Shark Tank\," this event will showcase the YEA! Class of 2026 and their business plans. Guests are welcome to attend and watch the students pitch in front of a panel of investors as they compete for seed money to start their business.
X-ALT-DESC;FMTTYPE=text/html:The&nbsp\;<strong>Young Entrepreneurs Academy&nbsp\;</strong>will be hosting their 10th Annual Investor Panel. Similar to the hit show &ldquo\;Shark Tank\,&rdquo\; this event will showcase the YEA! Class of 2026 and their business plans. Guests are welcome to attend and watch the students pitch in front of a panel of investors as they compete for seed money to start their business.<br />\n<br />\n&nbsp\;
LOCATION:Belmont Country Club 43750 Tournament Parkway Ashburn\, VA 20147 Directions: The event is located at the Belmont Country Club Clubhouse use the front gate from Russell Branch Pkwy (across from Whole Foods shopping center) to enter the Country Club and let the security guard know that you're attending the Chamber event. After entering the main gate\, turn right at the roundabout and follow the road to the Manor/Clubhouse. Park wherever you would like. The event is in the upstairs ballroom.
UID:e.1206.13545
SEQUENCE:3
DTSTAMP:20260419T222015Z
URL:https://business.loudounchamber.org/events/details/yea-10th-annual-investor-panel-13545
END:VEVENT

END:VCALENDAR
